BEGIN:VCALENDAR
VERSION:2.0
PRODID:-//Bruce Bayard | digital art and video performance - ECPv6.15.17//NONSGML v1.0//EN
CALSCALE:GREGORIAN
METHOD:PUBLISH
X-WR-CALNAME:Bruce Bayard | digital art and video performance
X-ORIGINAL-URL:https://brucebayard.com
X-WR-CALDESC:Events for Bruce Bayard | digital art and video performance
REFRESH-INTERVAL;VALUE=DURATION:PT1H
X-Robots-Tag:noindex
X-PUBLISHED-TTL:PT1H
BEGIN:VTIMEZONE
TZID:America/Los_Angeles
BEGIN:DAYLIGHT
TZOFFSETFROM:-0800
TZOFFSETTO:-0700
TZNAME:PDT
DTSTART:20150308T100000
END:DAYLIGHT
BEGIN:STANDARD
TZOFFSETFROM:-0700
TZOFFSETTO:-0800
TZNAME:PST
DTSTART:20151101T090000
END:STANDARD
BEGIN:DAYLIGHT
TZOFFSETFROM:-0800
TZOFFSETTO:-0700
TZNAME:PDT
DTSTART:20160313T100000
END:DAYLIGHT
BEGIN:STANDARD
TZOFFSETFROM:-0700
TZOFFSETTO:-0800
TZNAME:PST
DTSTART:20161106T090000
END:STANDARD
BEGIN:DAYLIGHT
TZOFFSETFROM:-0800
TZOFFSETTO:-0700
TZNAME:PDT
DTSTART:20170312T100000
END:DAYLIGHT
BEGIN:STANDARD
TZOFFSETFROM:-0700
TZOFFSETTO:-0800
TZNAME:PST
DTSTART:20171105T090000
END:STANDARD
BEGIN:DAYLIGHT
TZOFFSETFROM:-0800
TZOFFSETTO:-0700
TZNAME:PDT
DTSTART:20180311T100000
END:DAYLIGHT
BEGIN:STANDARD
TZOFFSETFROM:-0700
TZOFFSETTO:-0800
TZNAME:PST
DTSTART:20181104T090000
END:STANDARD
END:VTIMEZONE
BEGIN:VEVENT
DTSTART;TZID=America/Los_Angeles:20170628T200000
DTEND;TZID=America/Los_Angeles:20170628T220000
DTSTAMP:20260420T210241
CREATED:20170529T034922Z
LAST-MODIFIED:20170628T055648Z
UID:4174-1498680000-1498687200@brucebayard.com
SUMMARY:June Art Trivia at Smithfields Pub and Pies
DESCRIPTION:OK. It’s Art Trivia. The food and drinks are excellent. The regulars are tons of fun\, and you might learn something really interesting. I know I have while helping Ann get the questions ready. Your biggest challenge is to see how close you can come to unseating the prevailing champion team: Team Sarah.
URL:https://brucebayard.com/event/june-art-trivia-at-smithfields-pub-and-pies/
LOCATION:Smithfields Pub & Pies\, 23 S 2nd Street\, Ashland\, 97520\, United States
CATEGORIES:Special Event
ATTACH;FMTTYPE=image/jpeg:https://brucebayard.com/wp-content/uploads/2017/01/art-trivia2.jpg
ORGANIZER;CN="Studio A.B":MAILTO:b@babayard.com
END:VEVENT
BEGIN:VEVENT
DTSTART;TZID=America/Los_Angeles:20170426T200000
DTEND;TZID=America/Los_Angeles:20170426T220000
DTSTAMP:20260420T210241
CREATED:20170419T052427Z
LAST-MODIFIED:20170419T053400Z
UID:4082-1493236800-1493244000@brucebayard.com
SUMMARY:April Art Trivia
DESCRIPTION:Smarten up\, people! Art is where it’s at. Art the Bartender\, that is. He’s at Smithfields Pub & Pies\, same place every last Wednesday of the month that Art Trivia takes place. Created by Ann DiSalvo and Bruce Bayard of Studio A.B\, Art Trivia is fun and challenging questions about Art (not the bartender). Bring your team (up to 6 people) or join a team. Enjoy great pies\, salads\, beverages and the picturesque atmosphere. Gift certificates for Smithfields to the top teams. \nTrivia all about Art: mostly visual\, art history\, design\, photography\, avant garde\, experimental.\nSample previous question: What was Basquiat’s graffiti tag name?
URL:https://brucebayard.com/event/april-art-trivia/
LOCATION:Smithfields Pub & Pies\, 23 S 2nd Street\, Ashland\, 97520\, United States
CATEGORIES:Special Event
ATTACH;FMTTYPE=image/jpeg:https://brucebayard.com/wp-content/uploads/2017/01/art-trivia2.jpg
END:VEVENT
BEGIN:VEVENT
DTSTART;TZID=America/Los_Angeles:20170329T200000
DTEND;TZID=America/Los_Angeles:20170329T220000
DTSTAMP:20260420T210241
CREATED:20170328T214833Z
LAST-MODIFIED:20170328T214833Z
UID:4069-1490817600-1490824800@brucebayard.com
SUMMARY:Art Trivia Night
DESCRIPTION:Art Trivia at Smithfields Pub & Pies\, created by Ann DiSalvo and Bruce Bayard of Studio A.B. Bring your team (up to 6 people) or join a team. Enjoy great pies\, salads\, beverages and the picturesque atmosphere. Gift certificates for Smithfields to the top teams. Bring a friend or join a team. \nTrivia All About Art: mostly visual\, art history\, design\, photography\, avant garde\, experimental.
URL:https://brucebayard.com/event/art-trivia-night/
LOCATION:Smithfields Pub & Pies\, 23 S 2nd Street\, Ashland\, 97520\, United States
CATEGORIES:Special Event
ATTACH;FMTTYPE=image/jpeg:https://brucebayard.com/wp-content/uploads/2017/01/art-trivia2.jpg
END:VEVENT
BEGIN:VEVENT
DTSTART;TZID=America/Los_Angeles:20170222T200000
DTEND;TZID=America/Los_Angeles:20170222T220000
DTSTAMP:20260420T210241
CREATED:20170220T203208Z
LAST-MODIFIED:20170328T215405Z
UID:4063-1487793600-1487800800@brucebayard.com
SUMMARY:Art Trivia February
DESCRIPTION:Art Trivia at Smithfields Pub & Pies\, created by Ann DiSalvo and Bruce Bayard of Studio A.B. Bring your team (up to 6 people) or join a team. Enjoy great pies\, salads\, beverages and the picturesque atmosphere. Gift certificates for Smithfields to the top teams. Bring a friend or join a team. \nTrivia All About Art: mostly visual\, art history\, design\, photography\, avant garde\, experimental.
URL:https://brucebayard.com/event/art-trivia-february/
LOCATION:Smithfields Pub & Pies\, 23 S 2nd Street\, Ashland\, 97520\, United States
CATEGORIES:Special Event
ATTACH;FMTTYPE=image/jpeg:https://brucebayard.com/wp-content/uploads/2017/01/art-trivia2.jpg
ORGANIZER;CN="Studio A.B":MAILTO:b@babayard.com
END:VEVENT
BEGIN:VEVENT
DTSTART;TZID=America/Los_Angeles:20170220T100000
DTEND;TZID=America/Los_Angeles:20170220T170000
DTSTAMP:20260420T210241
CREATED:20161202T004540Z
LAST-MODIFIED:20170116T001545Z
UID:4036-1487584800-1487610000@brucebayard.com
SUMMARY:US Art March
DESCRIPTION:Originally scheduled for the day after Inauguration Day\, this event is now on President’s day. Artists nationwide are participating in a fundraising event for non-profit organizations. Studio A.B is donating 100% of profits from the sale of all images from The Disintegration Series to the ACLU. Please join us\, and help the ACLU stay vigilant over our civil liberties. \nFor online sales\, start here to view No. 01\, and click on the right tab to scroll through\, or visit the Studio. \n 
URL:https://brucebayard.com/event/art-march/
LOCATION:The A\, 621 A Street\, Ashland\, OR\, 97520\, United States
CATEGORIES:Special Event
ATTACH;FMTTYPE=image/jpeg:https://brucebayard.com/wp-content/uploads/2013/12/DISINTEGRATION-06.jpg
END:VEVENT
BEGIN:VEVENT
DTSTART;TZID=America/Los_Angeles:20170125T200000
DTEND;TZID=America/Los_Angeles:20170125T220000
DTSTAMP:20260420T210241
CREATED:20170116T003939Z
LAST-MODIFIED:20170118T225850Z
UID:4050-1485374400-1485381600@brucebayard.com
SUMMARY:Art Trivia
DESCRIPTION:Art Trivia at Smithfields Pub & Pies\, created by Ann DiSalvo and Bruce Bayard of Studio A.B. Bring your team (up to 6 people) or join a team. Enjoy great pies\, salads\, beverages and the picturesque atmosphere. Gift certificates for Smithfields to the top teams. \nTrivia All About Art: mostly visual\, art history\, design\, photography\, avant garde\, experimental.
URL:https://brucebayard.com/event/art-trivia/
LOCATION:Smithfields Pub & Pies\, 23 S 2nd Street\, Ashland\, 97520\, United States
CATEGORIES:Special Event
ATTACH;FMTTYPE=image/jpeg:https://brucebayard.com/wp-content/uploads/2017/01/art-trivia2.jpg
ORGANIZER;CN="Studio A.B":MAILTO:b@babayard.com
END:VEVENT
BEGIN:VEVENT
DTSTART;TZID=America/Los_Angeles:20161209T170000
DTEND;TZID=America/Los_Angeles:20161209T200000
DTSTAMP:20260420T210241
CREATED:20161202T003759Z
LAST-MODIFIED:20161202T003954Z
UID:4033-1481302800-1481313600@brucebayard.com
SUMMARY:2x4 images and poems
DESCRIPTION:Four local visual artists are teaming up with four area poets to create an exhibition of work\, each inspired by the other. The creative process pairs artist and poet\, each artist supplying an image to a poet for poetic interpretation\, and each poet supplying their artist partner with a poem for visual interpretation. The exhibit includes two sets of poems/artwork from each of the four pairs. \nReadings will be at 6:30 and 7:30. The exhibit is also on view Saturday\, December 10 from 10am–5pm. \nParticipating artists and poets: \nBruce Bayard works in photo-based digital image collage.\nAnn DiSalvo is more widely known for her figurative work in pastel and charcoal\, but has been writing poetry consistently most of her life.\nPeter Van Fleet creates abstract paintings on wood panels.\nMarisa Petersen’s poetry uses a story-telling style alive with images and insights gleaned from her garden\, her grandchild\, and fellow residents of the global village.\nDaniel Verner presents a photographic response to his daughter Kayli’s poem and a free-standing assemblage sculpture of found objects.\nKayli Gordon is an aspiring novelist\, working on her first book. She is part of two writers groups in Ashland and enjoys participating in poetry slams and comedy nights.\nDavid Winston creates images of stillness in nature and surprises in the ordinary.\nStephanie Nead seeks and expresses the Sacred through her poetry. \nPaschal Winery will be pouring for the Friday reading.
URL:https://brucebayard.com/event/2x4-images-and-poems/
LOCATION:The Bell House Gallery\, 104 South Market Street\, Talent\, OR\, 97540\, United States
CATEGORIES:Special Event
ATTACH;FMTTYPE=image/jpeg:https://brucebayard.com/wp-content/uploads/2016/11/DISINTEGRATION-13.jpg
END:VEVENT
BEGIN:VEVENT
DTSTART;TZID=America/Los_Angeles:20160421T173000
DTEND;TZID=America/Los_Angeles:20160421T190000
DTSTAMP:20260420T210241
CREATED:20160413T052322Z
LAST-MODIFIED:20160413T052322Z
UID:3829-1461259800-1461265200@brucebayard.com
SUMMARY:Art Matters—Panel Discussions about Art with Rebecca Gabriel
DESCRIPTION:The Evolution of Style: Putting the Cart Before the Horse or Not?\nPlease join us for this exciting series which explores vital issues and topics concerning today’s art and artists. The panels will be moderated by artist Rebecca Gabriel who holds a Master of Science in Art Education and a Master of Fine Arts in Painting. Come to these dynamic and interactive discussions to be informed and inspired. \nPanelists \n\nInger Jorgensen\nBruce Bayard\nCody Bustamante\nSteven Mayerson\nPeter Van Fleet
URL:https://brucebayard.com/event/art-matters-panel-discussions-about-art-with-rebecca-gabriel/
LOCATION:Ashland Art Center\, 357 E Main St.\, Ashland\, OR\, 97520\, United States
CATEGORIES:Special Event
END:VEVENT
BEGIN:VEVENT
DTSTART;TZID=America/Los_Angeles:20160414T180000
DTEND;TZID=America/Los_Angeles:20160414T210000
DTSTAMP:20260420T210241
CREATED:20160413T051221Z
LAST-MODIFIED:20160413T052431Z
UID:3826-1460656800-1460667600@brucebayard.com
SUMMARY:Nude
DESCRIPTION:The premiere of NUDE by Greeley Wells\, a short film in which ten artists and models discuss their relationship with the nude in their artwork. \nNUDE is my most recent film\, a short film of 17 minutes. It is a rich exploration of the human form in art. Ten Ashland artists including models discuss their art processes\, the muse\, and some of the problems society seems to have with the nude. The artist’s way of seeing the human form is truthful\, concentrated\, without stigma\, and suggests that deep clear seeing like this could be a solution to some other problems in our world.  The score\, written by Jeff Pevar\, adds to the humanity and beauty of the NUDE. \n—Greeley Wells\, Filmmaker
URL:https://brucebayard.com/event/nude-2/
LOCATION:The Enclave Studios\, 1661 Siskiyou Blvd.\, Ashland\, OR\, 97520\, United States
CATEGORIES:Special Event
ATTACH;FMTTYPE=image/jpeg:https://brucebayard.com/wp-content/uploads/2016/04/Nested-Sequence-07-010.jpg
END:VEVENT
END:VCALENDAR