BEGIN:VCALENDAR
VERSION:2.0
PRODID:-//Bruce Bayard | digital art and video performance - ECPv6.15.17//NONSGML v1.0//EN
CALSCALE:GREGORIAN
METHOD:PUBLISH
X-ORIGINAL-URL:https://brucebayard.com
X-WR-CALDESC:Events for Bruce Bayard | digital art and video performance
REFRESH-INTERVAL;VALUE=DURATION:PT1H
X-Robots-Tag:noindex
X-PUBLISHED-TTL:PT1H
BEGIN:VTIMEZONE
TZID:America/Los_Angeles
BEGIN:DAYLIGHT
TZOFFSETFROM:-0800
TZOFFSETTO:-0700
TZNAME:PDT
DTSTART:20140309T100000
END:DAYLIGHT
BEGIN:STANDARD
TZOFFSETFROM:-0700
TZOFFSETTO:-0800
TZNAME:PST
DTSTART:20141102T090000
END:STANDARD
BEGIN:DAYLIGHT
TZOFFSETFROM:-0800
TZOFFSETTO:-0700
TZNAME:PDT
DTSTART:20150308T100000
END:DAYLIGHT
BEGIN:STANDARD
TZOFFSETFROM:-0700
TZOFFSETTO:-0800
TZNAME:PST
DTSTART:20151101T090000
END:STANDARD
BEGIN:DAYLIGHT
TZOFFSETFROM:-0800
TZOFFSETTO:-0700
TZNAME:PDT
DTSTART:20160313T100000
END:DAYLIGHT
BEGIN:STANDARD
TZOFFSETFROM:-0700
TZOFFSETTO:-0800
TZNAME:PST
DTSTART:20161106T090000
END:STANDARD
BEGIN:DAYLIGHT
TZOFFSETFROM:-0800
TZOFFSETTO:-0700
TZNAME:PDT
DTSTART:20170312T100000
END:DAYLIGHT
BEGIN:STANDARD
TZOFFSETFROM:-0700
TZOFFSETTO:-0800
TZNAME:PST
DTSTART:20171105T090000
END:STANDARD
BEGIN:DAYLIGHT
TZOFFSETFROM:-0800
TZOFFSETTO:-0700
TZNAME:PDT
DTSTART:20180311T100000
END:DAYLIGHT
BEGIN:STANDARD
TZOFFSETFROM:-0700
TZOFFSETTO:-0800
TZNAME:PST
DTSTART:20181104T090000
END:STANDARD
BEGIN:DAYLIGHT
TZOFFSETFROM:-0800
TZOFFSETTO:-0700
TZNAME:PDT
DTSTART:20190310T100000
END:DAYLIGHT
BEGIN:STANDARD
TZOFFSETFROM:-0700
TZOFFSETTO:-0800
TZNAME:PST
DTSTART:20191103T090000
END:STANDARD
BEGIN:DAYLIGHT
TZOFFSETFROM:-0800
TZOFFSETTO:-0700
TZNAME:PDT
DTSTART:20200308T100000
END:DAYLIGHT
BEGIN:STANDARD
TZOFFSETFROM:-0700
TZOFFSETTO:-0800
TZNAME:PST
DTSTART:20201101T090000
END:STANDARD
BEGIN:DAYLIGHT
TZOFFSETFROM:-0800
TZOFFSETTO:-0700
TZNAME:PDT
DTSTART:20210314T100000
END:DAYLIGHT
BEGIN:STANDARD
TZOFFSETFROM:-0700
TZOFFSETTO:-0800
TZNAME:PST
DTSTART:20211107T090000
END:STANDARD
END:VTIMEZONE
BEGIN:VEVENT
DTSTART;TZID=America/Los_Angeles:20200501T170000
DTEND;TZID=America/Los_Angeles:20200501T200000
DTSTAMP:20260420T135705
CREATED:20200223T034644Z
LAST-MODIFIED:20200223T034644Z
UID:4336-1588352400-1588363200@brucebayard.com
SUMMARY:Cascadia Exhibit at the Grants Pass Museum of Art
DESCRIPTION:A month long exhibit of new work inspired by recent trips to the southern Cascadia coast. Exhibit is from April 28 through May 29. Opening reception: Friday\, May 1. \nCascadia is a new body of work by Bruce Bayard including archival digital prints and multimedia performance.
URL:https://brucebayard.com/event/cascadia-exhibit-at-the-grants-pass-museum-of-art/
LOCATION:Grants Pass Museum of Art\, 229 S.W. G Street\, Grants Pass\, 97526\, United States
CATEGORIES:Exhibitions,First Friday Artwalk
ATTACH;FMTTYPE=image/jpeg:https://brucebayard.com/wp-content/uploads/2020/02/Cascadia-wide-02-1600.jpg
END:VEVENT
BEGIN:VEVENT
DTSTART;TZID=America/Los_Angeles:20160205T170000
DTEND;TZID=America/Los_Angeles:20160205T200000
DTSTAMP:20260420T135705
CREATED:20160202T005039Z
LAST-MODIFIED:20160202T005423Z
UID:3760-1454691600-1454702400@brucebayard.com
SUMMARY:First Friday Artwalk
DESCRIPTION:Showing a mix of Ann’s dry media drawings\, and Bruce’s digital prints.
URL:https://brucebayard.com/event/first-friday-artwalk-2/
LOCATION:The A\, 621 A Street\, Ashland\, OR\, 97520\, United States
CATEGORIES:First Friday Artwalk
ATTACH;FMTTYPE=image/jpeg:https://brucebayard.com/wp-content/uploads/2015/06/triptych-11.jpg
END:VEVENT
BEGIN:VEVENT
DTSTART;TZID=America/Los_Angeles:20151106T170000
DTEND;TZID=America/Los_Angeles:20151106T200000
DTSTAMP:20260420T135705
CREATED:20151118T024434Z
LAST-MODIFIED:20160202T005152Z
UID:3716-1446829200-1446840000@brucebayard.com
SUMMARY:First Friday Artwalk
DESCRIPTION:Studio A.B is displaying drawings by Ann DiSalvo and digital collage by Bruce Bayard.
URL:https://brucebayard.com/event/first-friday-artwalk/
LOCATION:The A\, 621 A Street\, Ashland\, OR\, 97520\, United States
CATEGORIES:First Friday Artwalk
END:VEVENT
END:VCALENDAR