BEGIN:VCALENDAR
VERSION:2.0
PRODID:-//Bruce Bayard | digital art and video performance - ECPv6.15.17//NONSGML v1.0//EN
CALSCALE:GREGORIAN
METHOD:PUBLISH
X-ORIGINAL-URL:https://brucebayard.com
X-WR-CALDESC:Events for Bruce Bayard | digital art and video performance
REFRESH-INTERVAL;VALUE=DURATION:PT1H
X-Robots-Tag:noindex
X-PUBLISHED-TTL:PT1H
BEGIN:VTIMEZONE
TZID:America/Los_Angeles
BEGIN:DAYLIGHT
TZOFFSETFROM:-0800
TZOFFSETTO:-0700
TZNAME:PDT
DTSTART:20140309T100000
END:DAYLIGHT
BEGIN:STANDARD
TZOFFSETFROM:-0700
TZOFFSETTO:-0800
TZNAME:PST
DTSTART:20141102T090000
END:STANDARD
BEGIN:DAYLIGHT
TZOFFSETFROM:-0800
TZOFFSETTO:-0700
TZNAME:PDT
DTSTART:20150308T100000
END:DAYLIGHT
BEGIN:STANDARD
TZOFFSETFROM:-0700
TZOFFSETTO:-0800
TZNAME:PST
DTSTART:20151101T090000
END:STANDARD
BEGIN:DAYLIGHT
TZOFFSETFROM:-0800
TZOFFSETTO:-0700
TZNAME:PDT
DTSTART:20160313T100000
END:DAYLIGHT
BEGIN:STANDARD
TZOFFSETFROM:-0700
TZOFFSETTO:-0800
TZNAME:PST
DTSTART:20161106T090000
END:STANDARD
BEGIN:DAYLIGHT
TZOFFSETFROM:-0800
TZOFFSETTO:-0700
TZNAME:PDT
DTSTART:20170312T100000
END:DAYLIGHT
BEGIN:STANDARD
TZOFFSETFROM:-0700
TZOFFSETTO:-0800
TZNAME:PST
DTSTART:20171105T090000
END:STANDARD
BEGIN:DAYLIGHT
TZOFFSETFROM:-0800
TZOFFSETTO:-0700
TZNAME:PDT
DTSTART:20180311T100000
END:DAYLIGHT
BEGIN:STANDARD
TZOFFSETFROM:-0700
TZOFFSETTO:-0800
TZNAME:PST
DTSTART:20181104T090000
END:STANDARD
BEGIN:DAYLIGHT
TZOFFSETFROM:-0800
TZOFFSETTO:-0700
TZNAME:PDT
DTSTART:20190310T100000
END:DAYLIGHT
BEGIN:STANDARD
TZOFFSETFROM:-0700
TZOFFSETTO:-0800
TZNAME:PST
DTSTART:20191103T090000
END:STANDARD
BEGIN:DAYLIGHT
TZOFFSETFROM:-0800
TZOFFSETTO:-0700
TZNAME:PDT
DTSTART:20200308T100000
END:DAYLIGHT
BEGIN:STANDARD
TZOFFSETFROM:-0700
TZOFFSETTO:-0800
TZNAME:PST
DTSTART:20201101T090000
END:STANDARD
BEGIN:DAYLIGHT
TZOFFSETFROM:-0800
TZOFFSETTO:-0700
TZNAME:PDT
DTSTART:20210314T100000
END:DAYLIGHT
BEGIN:STANDARD
TZOFFSETFROM:-0700
TZOFFSETTO:-0800
TZNAME:PST
DTSTART:20211107T090000
END:STANDARD
END:VTIMEZONE
BEGIN:VEVENT
DTSTART;TZID=America/Los_Angeles:20200502T130000
DTEND;TZID=America/Los_Angeles:20200502T150000
DTSTAMP:20260420T164245
CREATED:20200223T035508Z
LAST-MODIFIED:20200223T041520Z
UID:4341-1588424400-1588431600@brucebayard.com
SUMMARY:Screen Captures at Art Presence Art Center
DESCRIPTION:Screen Captures is an exhibit of archival digital prints by Bruce Bayard. The images are “captured” from a randomly generated video. Exhibit runs from May 1 to April 26.
URL:https://brucebayard.com/event/screen-captures-at-art-presence-art-center/
LOCATION:Art Presence Art Center\, 206 N. 5th Street\, Jacksonville\, Oregon\, 97530\, United States
CATEGORIES:Exhibitions
ATTACH;FMTTYPE=image/jpeg:https://brucebayard.com/wp-content/uploads/2015/11/transmissionsII_10.jpg
END:VEVENT
BEGIN:VEVENT
DTSTART;TZID=America/Los_Angeles:20200501T170000
DTEND;TZID=America/Los_Angeles:20200501T200000
DTSTAMP:20260420T164245
CREATED:20200223T034644Z
LAST-MODIFIED:20200223T034644Z
UID:4336-1588352400-1588363200@brucebayard.com
SUMMARY:Cascadia Exhibit at the Grants Pass Museum of Art
DESCRIPTION:A month long exhibit of new work inspired by recent trips to the southern Cascadia coast. Exhibit is from April 28 through May 29. Opening reception: Friday\, May 1. \nCascadia is a new body of work by Bruce Bayard including archival digital prints and multimedia performance.
URL:https://brucebayard.com/event/cascadia-exhibit-at-the-grants-pass-museum-of-art/
LOCATION:Grants Pass Museum of Art\, 229 S.W. G Street\, Grants Pass\, 97526\, United States
CATEGORIES:Exhibitions,First Friday Artwalk
ATTACH;FMTTYPE=image/jpeg:https://brucebayard.com/wp-content/uploads/2020/02/Cascadia-wide-02-1600.jpg
END:VEVENT
BEGIN:VEVENT
DTSTART;TZID=America/Los_Angeles:20160401T170000
DTEND;TZID=America/Los_Angeles:20160401T200000
DTSTAMP:20260420T164245
CREATED:20160214T055842Z
LAST-MODIFIED:20160214T055843Z
UID:3785-1459530000-1459540800@brucebayard.com
SUMMARY:Nude
DESCRIPTION:Opening reception for a group exhibition featuring artists from the film\, NUDE\, by Greeley Wells. \nFigurative paintings\, drawings\, video\, sculpture. Artists include Bruce Bayard\, Ann DiSalvo\, Kevin Christman\, Inger Jorgensen\, Irene Kai\, Gabriel Lipper\, Daniel Verner. \nThe exhibition runs from April 1 to April 30.
URL:https://brucebayard.com/event/nude/
LOCATION:The A\, 621 A Street\, Ashland\, OR\, 97520\, United States
CATEGORIES:Exhibitions
ATTACH;FMTTYPE=image/jpeg:https://brucebayard.com/wp-content/uploads/2016/02/ROBYN-still.jpg
END:VEVENT
BEGIN:VEVENT
DTSTART;TZID=America/Los_Angeles:20160302T170000
DTEND;TZID=America/Los_Angeles:20160302T180000
DTSTAMP:20260420T164245
CREATED:20160214T060715Z
LAST-MODIFIED:20160214T064807Z
UID:3788-1456938000-1456941600@brucebayard.com
SUMMARY:Divided Landscapes
DESCRIPTION:Opening reception for an exhibit of images at the Rogue Valley Manor\, Deschutes Gallery.
URL:https://brucebayard.com/event/divided-landscapes/
LOCATION:Rogue Valley Manor\, 1200 Mira Mar Ave\, Medford\, OR\, 97504\, United States
CATEGORIES:Exhibitions
ATTACH;FMTTYPE=image/jpeg:https://brucebayard.com/wp-content/uploads/2015/06/triptych-12.jpg
END:VEVENT
BEGIN:VEVENT
DTSTART;TZID=America/Los_Angeles:20151211T170000
DTEND;TZID=America/Los_Angeles:20151211T200000
DTSTAMP:20260420T164245
CREATED:20151120T010440Z
LAST-MODIFIED:20151215T175343Z
UID:3734-1449853200-1449864000@brucebayard.com
SUMMARY:Second Friday Group Show Featuring Collaboration Art
DESCRIPTION:(image is BACK side of collaboration) \nFour artists who meet weekly over coffee\, decided to help each other push beyond their perceived boundaries and limitations in their art-making process. One of the four decided that letting go of control over the outcome of his art would be outside his comfort zone\, so he began a collaborative work that the other three contributed to in two rounds\, with no restrictions placed on what each artist could contribute. \nThe artists\, Daniel Verner\, David Lorenz Winston\, Peter Van Fleet and Bruce Bayard (in order of contribution) are also exhibiting their own work. \nBelow is a detail of one section\, in four stages of completion. \n4-panel detail shows progression
URL:https://brucebayard.com/event/second-friday-group-show-featuring-collaboration-art/
LOCATION:The Bell House Gallery\, 104 South Market Street\, Talent\, OR\, 97540\, United States
CATEGORIES:Exhibitions
ATTACH;FMTTYPE=image/jpeg:https://brucebayard.com/wp-content/uploads/2015/11/TalentCollaborationBack.jpg
END:VEVENT
END:VCALENDAR