BEGIN:VCALENDAR
VERSION:2.0
PRODID:-//Bruce Bayard | digital art and video performance - ECPv6.15.17//NONSGML v1.0//EN
CALSCALE:GREGORIAN
METHOD:PUBLISH
X-WR-CALNAME:Bruce Bayard | digital art and video performance
X-ORIGINAL-URL:https://brucebayard.com
X-WR-CALDESC:Events for Bruce Bayard | digital art and video performance
REFRESH-INTERVAL;VALUE=DURATION:PT1H
X-Robots-Tag:noindex
X-PUBLISHED-TTL:PT1H
BEGIN:VTIMEZONE
TZID:America/Los_Angeles
BEGIN:DAYLIGHT
TZOFFSETFROM:-0800
TZOFFSETTO:-0700
TZNAME:PDT
DTSTART:20140309T100000
END:DAYLIGHT
BEGIN:STANDARD
TZOFFSETFROM:-0700
TZOFFSETTO:-0800
TZNAME:PST
DTSTART:20141102T090000
END:STANDARD
BEGIN:DAYLIGHT
TZOFFSETFROM:-0800
TZOFFSETTO:-0700
TZNAME:PDT
DTSTART:20150308T100000
END:DAYLIGHT
BEGIN:STANDARD
TZOFFSETFROM:-0700
TZOFFSETTO:-0800
TZNAME:PST
DTSTART:20151101T090000
END:STANDARD
BEGIN:DAYLIGHT
TZOFFSETFROM:-0800
TZOFFSETTO:-0700
TZNAME:PDT
DTSTART:20160313T100000
END:DAYLIGHT
BEGIN:STANDARD
TZOFFSETFROM:-0700
TZOFFSETTO:-0800
TZNAME:PST
DTSTART:20161106T090000
END:STANDARD
BEGIN:DAYLIGHT
TZOFFSETFROM:-0800
TZOFFSETTO:-0700
TZNAME:PDT
DTSTART:20170312T100000
END:DAYLIGHT
BEGIN:STANDARD
TZOFFSETFROM:-0700
TZOFFSETTO:-0800
TZNAME:PST
DTSTART:20171105T090000
END:STANDARD
END:VTIMEZONE
BEGIN:VEVENT
DTSTART;TZID=America/Los_Angeles:20161015T200000
DTEND;TZID=America/Los_Angeles:20161015T200000
DTSTAMP:20260420T191100
CREATED:20160610T185713Z
LAST-MODIFIED:20160610T185713Z
UID:3867-1476561600-1476561600@brucebayard.com
SUMMARY:When We Hear Sounds
DESCRIPTION:an opera for voice\, electronics\, cello\nTodd Barton\, electronics; Bruce Bayard\, electronics\, video\, cello; Damon Honeycutt\, voice\, dance; and special guest TBA.
URL:https://brucebayard.com/event/when-we-hear-sounds/
LOCATION:The DanceSpace\, 280 East Hersey #10\, Ashland\, OR\, 97520\, United States
CATEGORIES:Concerts
ATTACH;FMTTYPE=image/jpeg:https://brucebayard.com/wp-content/uploads/2013/12/train_3175.jpg
END:VEVENT
BEGIN:VEVENT
DTSTART;TZID=America/Los_Angeles:20151204T180000
DTEND;TZID=America/Los_Angeles:20151204T190000
DTSTAMP:20260420T191100
CREATED:20151118T014619Z
LAST-MODIFIED:20151203T073407Z
UID:3710-1449252000-1449255600@brucebayard.com
SUMMARY:First Friday Concert
DESCRIPTION:Todd Barton and Bruce Bayard\, performing as the experimental music duo\, Control Voltage Therapy\, bring their quadraphonic system into the Schneider Museum of Art for an evening of improvisational sound\, in response to the exhibit\, Breaking Pattern. \nThe instruments consist of two Buchla Easels\, which are electronic synthesizers. Barton and Bayard will be playing a composition that is the aural equivalent of the images installed in the exhibit. By setting sequences that are of slightly different tempos\, patterns drift apart and come back together creating ever-changing poly rhythms. \n[NOTE: our quad system might be less than 100% for this performance\, but the patterns will be well worth the listen]
URL:https://brucebayard.com/event/first-friday-concert/
LOCATION:Schneider Museum of Art\, 1250 Siskiyou Blvd\, Ashland\, OR\, 97520\, United States
CATEGORIES:Concerts
ATTACH;FMTTYPE=image/jpeg:https://brucebayard.com/wp-content/uploads/2015/11/buchlaEasel_01sm.jpg
END:VEVENT
END:VCALENDAR